View In:
ArcGIS JavaScript
ArcGIS Online map viewer
Google Earth
ArcMap
ArcGIS Explorer
View Footprint In:
ArcGIS Online map viewer
Service Description: The Topo250 and Topo50 map series provides topographic mapping for the New Zealand mainland, the Chatham Islands at 1:250,000 and 1:50,000 scale.
Map Name: Layers
Legend
All Layers and Tables
Layers:
Description:
Copyright Text: Eagle Technology, LINZ
Spatial Reference:
2193
(2193)
Single Fused Map Cache: true
Tile Info:
- Height: 256
- Width: 256
- DPI: 96
-
Levels of Detail: 12
-
Level ID: 0
[ Start Tile, End Tile ]
- Resolution: 4891.96981024998
- Scale: 1.8489297737236E7
- Format: JPEG
- Compression Quality: 95.0
- Origin: X: -4020900.0
Y: 1.99981E7
- Spatial Reference: 2193
(2193)
Initial Extent:
XMin: -1174351.6000321147
YMin: 6925217.074996745
XMax: 4583496.866632111
YMax: 8383024.078451239
Spatial Reference: 2193
(2193)
Full Extent:
XMin: -1603783.9834000021
YMin: 3359628.2156999987
XMax: 5012929.249999996
YMax: 7487136.470800001
Spatial Reference: 2193
(2193)
Units: esriMeters
Supported Image Format Types: PNG32,PNG24,PNG,JPG,DIB,TIFF,EMF,PS,PDF,GIF,SVG,SVGZ,BMP
Document Info:
Title:
Author:
Comments: The Topo250 and Topo50 map series provides topographic mapping for the New Zealand mainland, the Chatham Islands at 1:250,000 and 1:50,000 scale.
Subject: Topo250 and Topo50 combined map series
Category:
Keywords: Topo50,Topo250,New Zealand,Basemap
AntialiasingMode: None
TextAntialiasingMode: Force
Supports Dynamic Layers: false
MaxRecordCount: 1000
MaxImageHeight: 4096
MaxImageWidth: 4096
Supported Query Formats: JSON, AMF, geoJSON
Min Scale: 1.8489297737236E7
Max Scale: 9027.977411
Supports Datum Transformation: true
Child Resources:
Info
Supported Operations:
Export Map
Identify
Find
EstimateExportTilesSize
ExportTiles
Return Updates