View In:
ArcGIS JavaScript
ArcGIS Online Map Viewer
ArcGIS Earth
ArcMap
ArcGIS Pro
View Footprint In:
ArcGIS Online Map Viewer
Service Description:
Map Name: GNS Geological Map of New Zealand (QMAP)
Legend
All Layers and Tables
Layers:
Description:
Copyright Text: Classic Basemap Server - Deprecated Basemap - Eagle Technology, GNS Science
Spatial Reference:
2193
(2193)
Single Fused Map Cache: true
Tile Info:
- Height: 256
- Width: 256
- DPI: 96
-
Levels of Detail: 11
-
Level ID: 0
[ Start Tile, End Tile ]
- Resolution: 4891.96981024998
- Scale: 1.8489297737236E7
- Format: MIXED
- Compression Quality: 90.0
- Origin: X: -4020900.0
Y: 1.99981E7
- Spatial Reference: 2193
(2193)
Initial Extent:
XMin: -447505.69513182994
YMin: 4293835.805793162
XMax: 3637495.646263336
YMax: 6679529.900767827
Spatial Reference: 2193
(2193)
Full Extent:
XMin: 215459.48949696962
YMin: 4670946.86900929
XMax: 2974530.4616345363
YMax: 6302418.800228933
Spatial Reference: 2193
(2193)
Units: esriMeters
Supported Image Format Types: PNG32,PNG24,PNG,JPG,DIB,TIFF,EMF,PS,PDF,GIF,SVG,SVGZ,BMP
Document Info:
Title: GNS Geological Map of New Zealand (QMAP)
Author:
Comments:
Subject:
Category:
Keywords:
AntialiasingMode: Fast
TextAntialiasingMode: Force
Supports Dynamic Layers: false
Resampling: true
MaxRecordCount: 2000
MaxImageHeight: 4096
MaxImageWidth: 4096
Supported Query Formats: JSON, geoJSON, PBF
Supports Query Data Elements: true
Min Scale: 1.8489297737236E7
Max Scale: 18055.954822
Supports Datum Transformation: true
Child Resources:
Info
Supported Operations:
Export Map
EstimateExportTilesSize
ExportTiles
Return Updates